BEGIN:VCALENDAR
VERSION:2.0
PRODID:-//ChamberMaster//Event Calendar 2.0//EN
METHOD:PUBLISH
X-PUBLISHED-TTL:P1H
REFRESH-INTERVAL:P1H
CALSCALE:GREGORIAN
BEGIN:VTIMEZONE
TZID:America/Chicago
BEGIN:DAYLIGHT
RRULE:FREQ=YEARLY;BYMONTH=3;BYDAY=2SU
DTSTART:20070101T000000
TZOFFSETFROM:-0600
TZOFFSETTO:-0500
TZNAME:Central Daylight Time
END:DAYLIGHT
BEGIN:STANDARD
RRULE:FREQ=YEARLY;BYMONTH=11;BYDAY=1SU
DTSTART:20070101T000000
TZOFFSETFROM:-0500
TZOFFSETTO:-0600
TZNAME:Central Standard Time
END:STANDARD
END:VTIMEZONE
BEGIN:VEVENT
DTSTART;TZID=America/Chicago:20251016T080000
DTEND;TZID=America/Chicago:20251016T100000
X-MICROSOFT-CDO-ALLDAYEVENT:FALSE
SUMMARY:2025 - Nonprofit Showcase
DESCRIPTION:The Nonprofit Showcase is YOUR opportunity to hear first-hand about the crucial work our local organizations do every day here in McLean County. Hear their mission\, feel their passion\, and get involved! \nNO REGISTRATION REQUIRED for attendees - only nonprofits.\n\nINFO FOR NONPROFITS:\n\nThe 2025 Nonprofit Showcase is available exclusively to nonprofit member organizations of the McLean County Chamber of Commerce to participate as exhibitors.\n\nIn order for your organization to participate in the 2025 Nonprofit Showcase:\n- The participating nonprofit organization must be a member in good standing with the McLean County Chamber of Commerce when signing up and participating in the event.\n- A logo must be provided in png\, pdf and esp format. Please click here to upload your logo for the event.\n\nAll participating nonprofit organizations will be provided with one 8' table and two chairs. There is no cost to participate\, but limited space is available\, and registration will continue on a first come\, first served basis until all spots are filled.\nClick Here to View Participating Nonprofits
X-ALT-DESC;FMTTYPE=text/html:<!DOCTYPE html><html><head><title></title></head><body aria-disabled="false"><p style="font-style: normal\; font-variant-ligatures: normal\; font-variant-caps: normal\; font-weight: 400\; letter-spacing: normal\; orphans: 2\; text-align: start\; text-indent: 0px\; text-transform: none\; widows: 2\; word-spacing: 0px\; -webkit-text-stroke-width: 0px\; white-space: normal\; text-decoration-thickness: initial\; text-decoration-style: initial\; text-decoration-color: initial\; box-sizing: border-box\; margin-top: 0px\; margin-bottom: 0px\; color: rgb(20\, 16\, 6)\; font-family: Montserrat\, sans-serif\; font-size: 14px\;"><span style="font-size: 14px\;"><span style="font-family: Arial\, Helvetica\, sans-serif\;">The Nonprofit Showcase is YOUR opportunity to hear first-hand about the crucial work our local organizations do every day here in McLean County. Hear their mission\, feel their passion\, and get involved!&nbsp\;</span></span></p><p style="font-style: normal\; font-variant-ligatures: normal\; font-variant-caps: normal\; font-weight: 400\; letter-spacing: normal\; orphans: 2\; text-align: start\; text-indent: 0px\; text-transform: none\; widows: 2\; word-spacing: 0px\; -webkit-text-stroke-width: 0px\; white-space: normal\; text-decoration-thickness: initial\; text-decoration-style: initial\; text-decoration-color: initial\; box-sizing: border-box\; margin-top: 0px\; margin-bottom: 0px\; color: rgb(20\, 16\, 6)\; font-family: Montserrat\, sans-serif\; font-size: 14px\;"><span style="font-family: Arial\,Helvetica\,sans-serif\;"><span style="font-size: 14px\;"><br><u>NO REGISTRATION REQUIRED for attendees - only nonprofits.</u><br><br><strong fr-original-style="" style="font-weight: 700\;">INFO FOR NONPROFITS:</strong><br><br>The 2025 Nonprofit Showcase is available exclusively to nonprofit member organizations of the McLean County Chamber of Commerce to participate as exhibitors.<br><br>In order for your organization to participate in the 2025 Nonprofit Showcase:<br>- The participating nonprofit organization must be a member in good standing with the McLean County Chamber of Commerce when signing up and participating in the event.<br>- A logo must be provided in<span style="color: rgb(0\, 0\, 0)\;">&nbsp\;<span style="font-style: normal\; font-variant-ligatures: normal\; font-variant-caps: normal\; font-weight: 400\; letter-spacing: 0.5px\; orphans: 2\; text-align: start\; text-indent: 0px\; text-transform: none\; widows: 2\; word-spacing: 0px\; -webkit-text-stroke-width: 0px\; white-space: normal\; background-color: rgb(255\, 255\, 255)\; text-decoration-thickness: initial\; text-decoration-style: initial\; text-decoration-color: initial\; float: none\; display: inline !important\;">png\, pdf and esp&nbsp\;</span>format</span>. <a fr-original-style="" href="https://mcleancountychamberofcommerce.growthzoneapp.com/ap/Form/FillV2/PeldXF5p?cid={{ HCIContactId }}" rel="noopener noreferrer" style="user-select: auto\;" target="_blank">Please click here to upload your logo for the event.</a></span></span></p><p style="font-style: normal\; font-variant-ligatures: normal\; font-variant-caps: normal\; font-weight: 400\; letter-spacing: normal\; orphans: 2\; text-align: start\; text-indent: 0px\; text-transform: none\; widows: 2\; word-spacing: 0px\; -webkit-text-stroke-width: 0px\; white-space: normal\; text-decoration-thickness: initial\; text-decoration-style: initial\; text-decoration-color: initial\; box-sizing: border-box\; margin-top: 0px\; margin-bottom: 0px\; color: rgb(20\, 16\, 6)\; font-family: Montserrat\, sans-serif\; font-size: 14px\;"><span style="font-size: 14px\;"><span style="font-family: Arial\, Helvetica\, sans-serif\;"><br><br>All participating nonprofit organizations will be provided with one 8&#39\; table and two chairs. There is no cost to participate\, but limited space is available\, and registration will continue on a first come\, first served basis until all spots are filled.</span></span></p><p style="font-style: normal\; font-variant-ligatures: normal\; font-variant-caps: normal\; font-weight: 400\; letter-spacing: normal\; orphans: 2\; text-align: start\; text-indent: 0px\; text-transform: none\; widows: 2\; word-spacing: 0px\; -webkit-text-stroke-width: 0px\; white-space: normal\; text-decoration-thickness: initial\; text-decoration-style: initial\; text-decoration-color: initial\; box-sizing: border-box\; margin-top: 0px\; margin-bottom: 0px\; color: rgb(20\, 16\, 6)\; font-family: Montserrat\, sans-serif\; font-size: 14px\;"><br></p><p style="font-variant-ligatures: normal\; orphans: 2\; text-align: start\; text-indent: 0px\; widows: 2\; text-decoration-thickness: initial\; text-decoration-style: initial\; text-decoration-color: initial\; box-sizing: border-box\; margin-top: 0px\; margin-bottom: 0px\;"><span style="color: rgb(44\, 130\, 201)\;"><a fr-original-style="" href="https://indd.adobe.com/view/24be5470-5b5b-45d7-9bed-df1c8a7ab5dd" style="user-select: auto\; color: inherit\;"><font color="#141006"><span style="font-size: 14px\;"><strong fr-original-style="" style="font-weight: 700\;">Click&nbsp\;</strong></span><strong fr-original-style="" style="font-weight: 700\;"><span style="caret-color: rgb(20\, 16\, 6)\; font-size: 14px\;">Here to View</span></strong><span style="font-size: 14px\;"><strong fr-original-style="" style="font-weight: 700\;">&nbsp\;Participating Nonprofits&nbsp\;</strong></span></font></a></span></p></body></html>
LOCATION:1413 Leslie Dr Bloomington 61704
UID:e.4344.1252156
SEQUENCE:3
DTSTAMP:20260420T083949Z
URL:https://members.mcleancochamber.org/bnypcalendar/Details/2025-nonprofit-showcase-1464050?sourceTypeId=Hub
END:VEVENT
END:VCALENDAR
